BEGIN:VCALENDAR
VERSION:2.0
PRODID:-//South Jersey Guild of Spinners &amp; Handweavers - ECPv6.15.20//NONSGML v1.0//EN
CALSCALE:GREGORIAN
METHOD:PUBLISH
X-WR-CALNAME:South Jersey Guild of Spinners &amp; Handweavers
X-ORIGINAL-URL:https://sjgsh.net
X-WR-CALDESC:Events for South Jersey Guild of Spinners &amp; Handweavers
REFRESH-INTERVAL;VALUE=DURATION:PT1H
X-Robots-Tag:noindex
X-PUBLISHED-TTL:PT1H
BEGIN:VTIMEZONE
TZID:UTC
BEGIN:STANDARD
TZOFFSETFROM:+0000
TZOFFSETTO:+0000
TZNAME:UTC
DTSTART:20220101T000000
END:STANDARD
END:VTIMEZONE
BEGIN:VTIMEZONE
TZID:America/New_York
BEGIN:DAYLIGHT
TZOFFSETFROM:-0500
TZOFFSETTO:-0400
TZNAME:EDT
DTSTART:20220313T070000
END:DAYLIGHT
BEGIN:STANDARD
TZOFFSETFROM:-0400
TZOFFSETTO:-0500
TZNAME:EST
DTSTART:20221106T060000
END:STANDARD
BEGIN:DAYLIGHT
TZOFFSETFROM:-0500
TZOFFSETTO:-0400
TZNAME:EDT
DTSTART:20230312T070000
END:DAYLIGHT
BEGIN:STANDARD
TZOFFSETFROM:-0400
TZOFFSETTO:-0500
TZNAME:EST
DTSTART:20231105T060000
END:STANDARD
BEGIN:DAYLIGHT
TZOFFSETFROM:-0500
TZOFFSETTO:-0400
TZNAME:EDT
DTSTART:20240310T070000
END:DAYLIGHT
BEGIN:STANDARD
TZOFFSETFROM:-0400
TZOFFSETTO:-0500
TZNAME:EST
DTSTART:20241103T060000
END:STANDARD
END:VTIMEZONE
BEGIN:VEVENT
DTSTART;TZID=UTC:20240302T100000
DTEND;TZID=UTC:20240302T223000
DTSTAMP:20260424T050451
CREATED:20230614T144048Z
LAST-MODIFIED:20230824T182225Z
UID:752-1709373600-1709418600@sjgsh.net
SUMMARY:SJGSH General Meeting
DESCRIPTION:Guild Business will be discussed. Bring you fiber projects to work on during the meeting! We would love to see them. \nPROGRAM: Anne Choi and Laura Chandler Fibershed Update\, Guild Hangout
URL:https://sjgsh.net/event/sjgsh-general-meeting-3-2-24/
LOCATION:First Presbyterian Church\, 101 Bridgeboro Rd\, Moorestown\, NJ\, 08057\, United States
CATEGORIES:South Jersey Guild Events
ATTACH;FMTTYPE=image/jpeg:https://sjgsh.net/wp-content/uploads/2023/03/GENERAL-GUILD-MEETING-e1726079976139.jpg
END:VEVENT
BEGIN:VEVENT
DTSTART;TZID=UTC:20240218T130000
DTEND;TZID=UTC:20240218T160000
DTSTAMP:20260424T050451
CREATED:20230614T144831Z
LAST-MODIFIED:20230618T010304Z
UID:771-1708261200-1708272000@sjgsh.net
SUMMARY:Rigid Heddle Study Group - SJGSH Event
DESCRIPTION:Bring your Rigid Heddle and a snack to share!
URL:https://sjgsh.net/event/rigid-heddle-study-group-sjgsh-event-5/
LOCATION:NJ
CATEGORIES:South Jersey Guild Events
ATTACH;FMTTYPE=image/jpeg:https://sjgsh.net/wp-content/uploads/2023/03/RIGID-HEDDLE-WEAVERS-STUDY-GROUP-e1726071821920.jpg
END:VEVENT
BEGIN:VEVENT
DTSTART;TZID=UTC:20240203T100000
DTEND;TZID=UTC:20240203T223000
DTSTAMP:20260424T050451
CREATED:20230614T144013Z
LAST-MODIFIED:20230824T182024Z
UID:753-1706954400-1706999400@sjgsh.net
SUMMARY:SJGSH General Meeting
DESCRIPTION:Guild Business will be discussed. Bring you fiber projects to work on during the meeting! We would love to see them. \nPROGRAM: Rae Turner – Needle Felting Demo/Learn Punch Needle
URL:https://sjgsh.net/event/sjgsh-general-meeting-2-3-24/
LOCATION:First Presbyterian Church\, 101 Bridgeboro Rd\, Moorestown\, NJ\, 08057\, United States
CATEGORIES:South Jersey Guild Events
ATTACH;FMTTYPE=image/jpeg:https://sjgsh.net/wp-content/uploads/2023/03/GENERAL-GUILD-MEETING-e1726079976139.jpg
END:VEVENT
BEGIN:VEVENT
DTSTART;TZID=UTC:20240106T100000
DTEND;TZID=UTC:20240106T223000
DTSTAMP:20260424T050451
CREATED:20230614T143936Z
LAST-MODIFIED:20230824T181727Z
UID:754-1704535200-1704580200@sjgsh.net
SUMMARY:SJGSH General Meeting - Rock Day!
DESCRIPTION:Guild Business will be discussed. Bring you fiber projects to work on during the meeting! We would love to see them. \nProgram: Rock Day/Distaff Day
URL:https://sjgsh.net/event/sjgsh-general-meeting-rock-day/
LOCATION:First Presbyterian Church\, 101 Bridgeboro Rd\, Moorestown\, NJ\, 08057\, United States
CATEGORIES:South Jersey Guild Events
ATTACH;FMTTYPE=image/jpeg:https://sjgsh.net/wp-content/uploads/2023/03/GENERAL-GUILD-MEETING-e1726079976139.jpg
END:VEVENT
BEGIN:VEVENT
DTSTART;TZID=UTC:20231202T100000
DTEND;TZID=UTC:20231202T223000
DTSTAMP:20260424T050451
CREATED:20230614T143841Z
LAST-MODIFIED:20230824T181629Z
UID:755-1701511200-1701556200@sjgsh.net
SUMMARY:SJGSH General Meeting
DESCRIPTION:Guild Business will be discussed. Bring you fiber projects to work on during the meeting! We would love to see them. \nProgram: Fiber Study
URL:https://sjgsh.net/event/sjgsh-general-meeting-12-2-23/
LOCATION:First Presbyterian Church\, 101 Bridgeboro Rd\, Moorestown\, NJ\, 08057\, United States
CATEGORIES:South Jersey Guild Events
ATTACH;FMTTYPE=image/jpeg:https://sjgsh.net/wp-content/uploads/2023/03/GENERAL-GUILD-MEETING-e1726079976139.jpg
END:VEVENT
BEGIN:VEVENT
DTSTART;TZID=UTC:20231112T130000
DTEND;TZID=UTC:20231112T160000
DTSTAMP:20260424T050451
CREATED:20230614T144718Z
LAST-MODIFIED:20230618T010401Z
UID:773-1699794000-1699804800@sjgsh.net
SUMMARY:Rigid Heddle Study Group - SJGSH Event
DESCRIPTION:Bring your Rigid Heddle and a snack to share!
URL:https://sjgsh.net/event/rigid-heddle-study-group-sjgsh-event-3/
LOCATION:NJ
CATEGORIES:South Jersey Guild Events
ATTACH;FMTTYPE=image/jpeg:https://sjgsh.net/wp-content/uploads/2023/03/RIGID-HEDDLE-WEAVERS-STUDY-GROUP-e1726071821920.jpg
END:VEVENT
BEGIN:VEVENT
DTSTART;TZID=UTC:20231104T100000
DTEND;TZID=UTC:20231104T223000
DTSTAMP:20260424T050451
CREATED:20230614T143804Z
LAST-MODIFIED:20230824T181435Z
UID:756-1699092000-1699137000@sjgsh.net
SUMMARY:SJGSH General Meeting
DESCRIPTION:Guild Business will be discussed. Bring you fiber projects to work on during the meeting! We would love to see them. \nProgram: Knit-Crochet-Pin Loom-Weave-a-Long \n  \n 
URL:https://sjgsh.net/event/sjgsh-general-meeting-11-4-23/
LOCATION:First Presbyterian Church\, 101 Bridgeboro Rd\, Moorestown\, NJ\, 08057\, United States
CATEGORIES:South Jersey Guild Events
ATTACH;FMTTYPE=image/jpeg:https://sjgsh.net/wp-content/uploads/2023/03/GENERAL-GUILD-MEETING-e1726079976139.jpg
END:VEVENT
BEGIN:VEVENT
DTSTART;TZID=UTC:20231029T110000
DTEND;TZID=UTC:20231029T160000
DTSTAMP:20260424T050451
CREATED:20230928T155607Z
LAST-MODIFIED:20230928T155641Z
UID:919-1698577200-1698595200@sjgsh.net
SUMMARY:NJ Fibershed Fleece and Yarn Sale
DESCRIPTION:Need a fiber fix? Longing to see sheep? You’re in luck because we’re holding a Fleece & Yarn Sale on Sunday\, October 29\, 2023\, from 11 a.m. – 4 p.m (Rain date November 5). \nThe Sale will feature fleece\, yarn\, spinning fiber\, honey\, and other farm products from local fiber producers and artisans. \nAre you a spinner? Pack your wheels and spindles and join us for a Spin-In\, hosted by the South Jersey Guild of Spinners & Handweavers! \nNJ Fibershed blankets will be available for purchase.  Back by popular demand\,Windswept Acres Farm will provide a Sheep Selfie station again. \nThis is an outdoor event\, with field parking and shopping. \nLocation: Windswept Acres Sheep Farm\, 173 Whitebridge Rd\, Pittstown\, NJ 08867\nCOVID-19 Safety Precautions: \nTo ensure the safety of all attendees this will be an exclusively outdoor event. Masks welcome!\nThere are no public restroom facilities\, but there will be a hand washing station.
URL:https://sjgsh.net/event/nj-fibershed-fleece-and-yarn-sale/
LOCATION:Windswept Acres Sheep Farm\, 173 Whitebridge Rd\, Pittstown\, NJ\, 08867\, United States
CATEGORIES:Fiber Events of Interest
ATTACH;FMTTYPE=image/webp:https://sjgsh.net/wp-content/uploads/2023/09/fy-sale-banner-for-website-1.webp
END:VEVENT
BEGIN:VEVENT
DTSTART;VALUE=DATE:20231021
DTEND;VALUE=DATE:20231023
DTSTAMP:20260424T050451
CREATED:20230406T180011Z
LAST-MODIFIED:20240305T160255Z
UID:564-1697846400-1698019199@sjgsh.net
SUMMARY:2023 New York State Sheep & Wool Festival
DESCRIPTION:The New York State Sheep and Wool Festival is an annual gathering of fiber-arts enthusiasts in the United States that draws approximately 30\,000 visitors and more than 300 vendors. It is held at the Dutchess County Fairgrounds in Rhinebeck\, New York. \nIf you love yarn – you will love this event. \n 
URL:https://sjgsh.net/event/2023-new-york-state-sheep-wool-festival/
LOCATION:NJ
CATEGORIES:Fiber Events of Interest
END:VEVENT
BEGIN:VEVENT
DTSTART;TZID=UTC:20231007T100000
DTEND;TZID=UTC:20231007T223000
DTSTAMP:20260424T050451
CREATED:20230614T143730Z
LAST-MODIFIED:20230824T181307Z
UID:757-1696672800-1696717800@sjgsh.net
SUMMARY:SJGSH General Meeting
DESCRIPTION:Guild Business will be discussed. Bring you fiber projects to work on during the meeting! We would love to see them. \nPROGRAM: Name Patterns for Knit-Crochet-Pin Loom & Weave-along; Discussion on Inspiration and Plans for the New Year-100 Days
URL:https://sjgsh.net/event/sjgsh-general-meeting-10-7-23/
LOCATION:First Presbyterian Church\, 101 Bridgeboro Rd\, Moorestown\, NJ\, 08057\, United States
CATEGORIES:South Jersey Guild Events
ATTACH;FMTTYPE=image/jpeg:https://sjgsh.net/wp-content/uploads/2023/03/GENERAL-GUILD-MEETING-e1726079976139.jpg
END:VEVENT
BEGIN:VEVENT
DTSTART;TZID=UTC:20230917T130000
DTEND;TZID=UTC:20230917T160000
DTSTAMP:20260424T050451
CREATED:20230614T144638Z
LAST-MODIFIED:20230618T010440Z
UID:770-1694955600-1694966400@sjgsh.net
SUMMARY:Rigid Heddle Study Group - SJGSH Event
DESCRIPTION:Bring your Rigid Heddle and a snack to share!
URL:https://sjgsh.net/event/rigid-heddle-study-group-sjgsh-event-2/
LOCATION:NJ
CATEGORIES:South Jersey Guild Events
ATTACH;FMTTYPE=image/jpeg:https://sjgsh.net/wp-content/uploads/2023/03/RIGID-HEDDLE-WEAVERS-STUDY-GROUP-e1726071821920.jpg
END:VEVENT
BEGIN:VEVENT
DTSTART;TZID=UTC:20230916T100000
DTEND;TZID=UTC:20230916T223000
DTSTAMP:20260424T050451
CREATED:20230614T143644Z
LAST-MODIFIED:20230824T181202Z
UID:758-1694858400-1694903400@sjgsh.net
SUMMARY:SJGSH General Meeting
DESCRIPTION:Guild Business will be discussed. Bring you fiber projects to work on during the meeting! We would love to see them. \nPROGRAM: Show & Tell and Discuss Summer Projects\, Pick Fiber for Fiber Study & Pattern Suggestions for Knit-Crochet- Pin Loom-Weave-along
URL:https://sjgsh.net/event/sjgsh-general-meeting-9-16-23/
LOCATION:First Presbyterian Church\, 101 Bridgeboro Rd\, Moorestown\, NJ\, 08057\, United States
CATEGORIES:South Jersey Guild Events
ATTACH;FMTTYPE=image/jpeg:https://sjgsh.net/wp-content/uploads/2023/03/GENERAL-GUILD-MEETING-e1726079976139.jpg
END:VEVENT
BEGIN:VEVENT
DTSTART;TZID=UTC:20230909T090000
DTEND;TZID=UTC:20230910T160000
DTSTAMP:20260424T050451
CREATED:20230405T204722Z
LAST-MODIFIED:20230405T204722Z
UID:389-1694250000-1694361600@sjgsh.net
SUMMARY:NJ Sheep and Wool Festival
DESCRIPTION:Great local Festival for Fiber Lovers. Sheep to Shawl – they have it all!
URL:https://sjgsh.net/event/nj-sheep-and-wool-festival/
LOCATION:NJ
ATTACH;FMTTYPE=image/png:https://sjgsh.net/wp-content/uploads/2023/04/Screenshot-2023-04-05-at-12.42.53-PM.png
END:VEVENT
BEGIN:VEVENT
DTSTART;VALUE=DATE:20230708
DTEND;VALUE=DATE:20230710
DTSTAMP:20260424T050451
CREATED:20230329T214849Z
LAST-MODIFIED:20230405T160943Z
UID:255-1688774400-1688947199@sjgsh.net
SUMMARY:MAFA Virtual Conference
DESCRIPTION:MAFA is trying something new this conference year. After the great response to the 2021 virtual conference as well as our ongoing virtual classes and lectures\, and since we know not everyone can attend the in-person conference in June\, we have planned a two-day virtual event for July. \n\n\n\nWith two full days of virtual classes\, lectures\, and other events\, we think there will be something for everyone.
URL:https://sjgsh.net/event/mafa-virtual-conference/
LOCATION:NJ
CATEGORIES:Fiber Events of Interest
ATTACH;FMTTYPE=image/png:https://sjgsh.net/wp-content/uploads/2023/03/Screenshot-2023-04-05-at-8.06.40-AM.png
END:VEVENT
BEGIN:VEVENT
DTSTART;VALUE=DATE:20230622
DTEND;VALUE=DATE:20230626
DTSTAMP:20260424T050451
CREATED:20230329T214640Z
LAST-MODIFIED:20230405T161206Z
UID:250-1687392000-1687737599@sjgsh.net
SUMMARY:MAFA Conference 2023
DESCRIPTION:With dozens of classes in weaving\, spinning\, dyeing\, felting\, basketmaking\, and other fiber arts\, MAFA 2023 is sure to be a fun and inspiring experience! Shop the vendor marketplace\, peruse the fashion\, fiber art\, and hat exhibits\, take part in the towel exchange\, enjoy yoga in the afternoon\, and make new friends — there’s a lot to look forward to! \nThe MAFA 2023 conference will be held at Millersville University\, Millersville\, PA. The campus is located between Harrisburg and Lancaster\, in south-central Pennsylvania’s historic Lancaster County.
URL:https://sjgsh.net/event/mafa-conference-2023/
LOCATION:Millersville University\, Millersville\, PA\, United States
CATEGORIES:Fiber Events of Interest
ATTACH;FMTTYPE=image/png:https://sjgsh.net/wp-content/uploads/2023/03/Screenshot-2023-04-05-at-8.10.35-AM.png
END:VEVENT
BEGIN:VEVENT
DTSTART;TZID=UTC:20230611T130000
DTEND;TZID=UTC:20230611T163000
DTSTAMP:20260424T050451
CREATED:20230415T020543Z
LAST-MODIFIED:20230929T154655Z
UID:618-1686488400-1686501000@sjgsh.net
SUMMARY:SJGSH Guild - Spinners Group Meeting
DESCRIPTION:This Month’s Topic: Introduction to “Sheep to Shawl and Everything in Between.”  We will start the class with the characteristics of the Dorset Sheep\, followed by skirting\, sorting\, and washing the fiber. \nJoin our Spinners Group – All levels welcomed. Come see what we are doing. \n 
URL:https://sjgsh.net/event/sjgsh-guild-spinners-group-meeting-2/
LOCATION:Jacksonville Presbyterian Church\, 940 Jacksonville Mt Holly Rd\, Fieldsboro\, NJ\, 08050\, United States
CATEGORIES:South Jersey Guild Events
ATTACH;FMTTYPE=image/jpeg:https://sjgsh.net/wp-content/uploads/2023/03/SPINNERS-STUDY-GROUP-e1726079947719.jpg
END:VEVENT
BEGIN:VEVENT
DTSTART;TZID=America/New_York:20230603T110000
DTEND;TZID=America/New_York:20230603T140000
DTSTAMP:20260424T050451
CREATED:20230405T162442Z
LAST-MODIFIED:20230415T014239Z
UID:347-1685790000-1685800800@sjgsh.net
SUMMARY:Monthly Guild Presentation
DESCRIPTION:Our Monthly Guild Presentation will be our Fashion Show & Fiber Study Results and Discussion. Bring everything you have worked on to show off your beautiful work.
URL:https://sjgsh.net/event/monthly-presentation-2/
LOCATION:First Presbyterian Church\, 101 Bridgeboro Rd\, Moorestown\, NJ\, 08057\, United States
CATEGORIES:South Jersey Guild Events
END:VEVENT
BEGIN:VEVENT
DTSTART;TZID=UTC:20230603T100000
DTEND;TZID=UTC:20230603T223000
DTSTAMP:20260424T050451
CREATED:20230329T212434Z
LAST-MODIFIED:20230405T160110Z
UID:242-1685786400-1685831400@sjgsh.net
SUMMARY:SJGSH General Meeting
DESCRIPTION:Guild Business will be discussed. Bring you fiber projects to work on during the meeting! We would love to see them.
URL:https://sjgsh.net/event/sjgsh-general-meeting/
LOCATION:First Presbyterian Church\, 101 Bridgeboro Rd\, Moorestown\, NJ\, 08057\, United States
CATEGORIES:South Jersey Guild Events
ATTACH;FMTTYPE=image/jpeg:https://sjgsh.net/wp-content/uploads/2023/03/GENERAL-GUILD-MEETING-e1726079976139.jpg
END:VEVENT
BEGIN:VEVENT
DTSTART;TZID=UTC:20230528T130000
DTEND;TZID=UTC:20230528T160000
DTSTAMP:20260424T050451
CREATED:20230329T212259Z
LAST-MODIFIED:20230929T154737Z
UID:240-1685278800-1685289600@sjgsh.net
SUMMARY:SJGSH Spinners Study Group
DESCRIPTION:This Month’s Topic: Wet Felting\, and Dyeing.  Each spinner will wet felt a small rectangle\, and then will have the opportunity to dye their rectangle.  Items needed for this study group are\, fiber of your choice (make sure that the wool is feltable)\, rubber gloves\, mask\, small cookie sheet with lip\,  bar of soap\, squirt bottle\, and apron.  Susan Makuka will supply the dye. \nJoin our Spinners Group – All levels welcomed. Come see what we are doing.
URL:https://sjgsh.net/event/sjgsh-spinners-study-group-2/
LOCATION:Jacksonville Presbyterian Church\, 940 Jacksonville Mt Holly Rd\, Fieldsboro\, NJ\, 08050\, United States
CATEGORIES:South Jersey Guild Events
ATTACH;FMTTYPE=image/jpeg:https://sjgsh.net/wp-content/uploads/2023/03/SPINNERS-STUDY-GROUP-e1726079947719.jpg
END:VEVENT
BEGIN:VEVENT
DTSTART;TZID=UTC:20230521T130000
DTEND;TZID=UTC:20230521T160000
DTSTAMP:20260424T050451
CREATED:20230329T212012Z
LAST-MODIFIED:20230405T155109Z
UID:237-1684674000-1684684800@sjgsh.net
SUMMARY:Rigid Heddle Study Group - SJGSH Event
DESCRIPTION:Bring your Rigid Heddle and a snack to share!\nLike last May we’ll weave in public in my front yard – in the shade.  If the weather doesn’t cooperate\, we’ll just have to go inside.
URL:https://sjgsh.net/event/rigid-heddle-study-group-sjgsh-event/
LOCATION:Dianne’s House
CATEGORIES:South Jersey Guild Events
ATTACH;FMTTYPE=image/jpeg:https://sjgsh.net/wp-content/uploads/2023/03/RIGID-HEDDLE-WEAVERS-STUDY-GROUP-e1726071821920.jpg
END:VEVENT
BEGIN:VEVENT
DTSTART;TZID=UTC:20230520T100000
DTEND;TZID=UTC:20230521T160000
DTSTAMP:20260424T050451
CREATED:20230329T210841Z
LAST-MODIFIED:20230405T151719Z
UID:233-1684576800-1684684800@sjgsh.net
SUMMARY:New Jersey Fibershed Barn Crawl
DESCRIPTION:Spanning most of the state\, come and meet the livestock\, buy some home grown fiber and locally made products!  Meet farmers\, ranchers\, designers\, sewers\, weavers\, knitters\, felters\, spinners\, and natural dyers living and working within New Jersey and neighboring regions. And if that wasn’t enough\, there will be a drawing for NJ Fibershed swag at the end of the Barn Crawl event! \nTo join the Fiber Quest\, scan the QR code at each host farm location visited.  Each scan is an entry into a drawing for NJ Fibershed swag that will be held at the end of the event (May 21).  So…. the more farms you visit the greater your chances of winning!
URL:https://sjgsh.net/event/new-jersey-fibershed-barn-crawl-2/
LOCATION:NJ
CATEGORIES:Fiber Events of Interest
ATTACH;FMTTYPE=image/png:https://sjgsh.net/wp-content/uploads/2023/04/Screenshot-2023-04-05-at-7.05.56-AM.png
END:VEVENT
BEGIN:VEVENT
DTSTART;TZID=America/New_York:20230513T110000
DTEND;TZID=America/New_York:20230513T140000
DTSTAMP:20260424T050451
CREATED:20220513T161753Z
LAST-MODIFIED:20230415T014043Z
UID:344-1683975600-1683986400@sjgsh.net
SUMMARY:Monthly Guild Presentation
DESCRIPTION:Our Monthly Guild Presentation will be Show and Share … Each member is encouraged to bring their current project to inspire the Guild.
URL:https://sjgsh.net/event/monthly-presentation/
LOCATION:First Presbyterian Church\, 101 Bridgeboro Rd\, Moorestown\, NJ\, 08057\, United States
CATEGORIES:South Jersey Guild Events
END:VEVENT
BEGIN:VEVENT
DTSTART;TZID=America/New_York:20230513T100000
DTEND;TZID=America/New_York:20230513T103000
DTSTAMP:20260424T050451
CREATED:20230329T215557Z
LAST-MODIFIED:20230405T155954Z
UID:259-1683972000-1683973800@sjgsh.net
SUMMARY:General Guild Meeting
DESCRIPTION:Guild Business will be discussed. Bring you fiber projects to work on during the meeting! We would love to see them.
URL:https://sjgsh.net/event/general-guild-meeting/
LOCATION:First Presbyterian Church\, 101 Bridgeboro Rd\, Moorestown\, NJ\, 08057\, United States
CATEGORIES:South Jersey Guild Events
ATTACH;FMTTYPE=image/jpeg:https://sjgsh.net/wp-content/uploads/2023/03/GENERAL-GUILD-MEETING-e1726079976139.jpg
END:VEVENT
BEGIN:VEVENT
DTSTART;VALUE=DATE:20230513
DTEND;VALUE=DATE:20230515
DTSTAMP:20260424T050451
CREATED:20230329T210627Z
LAST-MODIFIED:20230415T013930Z
UID:231-1683936000-1684108799@sjgsh.net
SUMMARY:New Jersey Fibershed Barn Crawl
DESCRIPTION:Spanning most of the state\, come and meet the livestock\, buy some home grown fiber and locally made products!  Meet farmers\, ranchers\, designers\, sewers\, weavers\, knitters\, felters\, spinners\, and natural dyers living and working within New Jersey and neighboring regions. And if that wasn’t enough\, there will be a drawing for NJ Fibershed swag at the end of the Barn Crawl event! \nTo join the Fiber Quest\, scan the QR code at each host farm location visited.  Each scan is an entry into a drawing for NJ Fibershed swag that will be held at the end of the event (May 21).  So…. the more farms you visit the greater your chances of winning!
URL:https://sjgsh.net/event/new-jersey-fibershed-barn-crawl/
LOCATION:NJ
CATEGORIES:Fiber Events of Interest
ATTACH;FMTTYPE=image/png:https://sjgsh.net/wp-content/uploads/2023/04/Screenshot-2023-04-05-at-7.05.56-AM.png
END:VEVENT
BEGIN:VEVENT
DTSTART;TZID=UTC:20230506T083000
DTEND;TZID=UTC:20230507T170000
DTSTAMP:20260424T050451
CREATED:20230329T163438Z
LAST-MODIFIED:20230405T160522Z
UID:220-1683361800-1683478800@sjgsh.net
SUMMARY:Maryland Sheep & Wool Festival
DESCRIPTION:The Maryland Sheep & Wool Festival is one of the largest festivals of its kind celebrating all things sheep\, from hoof to handwoven.
URL:https://sjgsh.net/event/maryland-sheep-wool-festival/
LOCATION:Howard County Fairgrounds\, West Friendship\, MD\, United States
CATEGORIES:Fiber Events of Interest
ATTACH;FMTTYPE=image/png:https://sjgsh.net/wp-content/uploads/2023/03/Screenshot-2023-04-05-at-8.03.44-AM.png
END:VEVENT
BEGIN:VEVENT
DTSTART;VALUE=DATE:20230426
DTEND;VALUE=DATE:20230501
DTSTAMP:20260424T050451
CREATED:20230404T170648Z
LAST-MODIFIED:20230404T170648Z
UID:324-1682467200-1682899199@sjgsh.net
SUMMARY:New Jersey Wool Walk
DESCRIPTION:What is the NJWW?\nDuring this yearly event\, participating yarn stores offer special events\, discounts\, designer appearances\, book signings\, and trunk shows. \nHow to Wool Walk? \n\nThe 2023 NJWW begins on Wednesday\, April 26th and ends on Sunday\, April 30th.  Five days of browsing and shopping.\n\n\nWool Walkers purchase a passport for $6 to take part in the NJWW and to be eligible for store discounts.\n\n\nPassports are purchased in-person at your LYS.\n$1.00 from each passport benefits the Community Food Bank of NJ.\nGet your Passport stamped by each store you visit during the walk. (No purchase is necessary to have your passport stamped.)\nSee the list of stores under the 2023 Stores tab and check here for individual extended store hours.\nTo create a travel plan\, click on the Map tab and pick the stores you would like to visit. Click on their individual websites for store hours and special information.\nAt the last store you visit\, turn in your stamped passport. Your passport will be used as your ticket to our prize drawings. The more stores you visit\, the more stamps you get\, the greater the prize you are eligible to win.\nIf you prefer to mail your passport after the NJWW\, please mail by May 1st to: Irina Lester\, The Local Yarn Store\, 57 Academy Street\, South Orange\, NJ 07079\n\n​Prizes\nGrand Prize: $100 Gift Certificate to a participating store of your choice\n2nd Prize:  $75 Gift Certificate to a participating store of your choice\n3rd Prize: $50 Gift Certificate to a participating store of your choice\nDoor Prizes: Super Fabulous Swag! \nHow to Enter:\nFor the Grand prize: visit and have your passport stamped at all 22 stores\nFor the 2nd prize: visit and have your passport stamped at 16 or more stores\nFor the 3rd prize: visit and have your passport stamped at 12 or more stores\nFor Door prizes: visit and have your passport stamped at 1 or more stores\nLIVE Prize Drawing on Tuesday\, May 16th.\nPrize winners will be notified by email no later than May 19th.
URL:https://sjgsh.net/event/new-jersey-wool-walk/
LOCATION:NJ
ATTACH;FMTTYPE=image/jpeg:https://sjgsh.net/wp-content/uploads/2023/04/njww2021-sqbadge-300_orig.jpg
END:VEVENT
BEGIN:VEVENT
DTSTART;TZID=UTC:20230423T130000
DTEND;TZID=UTC:20230423T163000
DTSTAMP:20260424T050451
CREATED:20230329T155532Z
LAST-MODIFIED:20230929T154829Z
UID:217-1682254800-1682267400@sjgsh.net
SUMMARY:SJGSH Guild - Spinners Group Meeting
DESCRIPTION:This Month’s Topic: We will be painting with different fibers on a blending board\, drum carder\, and hand carders to make rolags\, and punis.  Each spinner will bring their own fiber\, and use their default technique to spin. \nJoin our Spinners Group – All levels welcomed. Come see what we are doing. \n 
URL:https://sjgsh.net/event/sjgsh-guild-spinners-group-meeting/
LOCATION:Jacksonville Presbyterian Church\, 940 Jacksonville Mt Holly Rd\, Fieldsboro\, NJ\, 08050\, United States
CATEGORIES:South Jersey Guild Events
ATTACH;FMTTYPE=image/jpeg:https://sjgsh.net/wp-content/uploads/2023/03/SPINNERS-STUDY-GROUP-e1726079947719.jpg
END:VEVENT
BEGIN:VEVENT
DTSTART;TZID=UTC:20230422T100000
DTEND;TZID=UTC:20230422T160000
DTSTAMP:20260424T050451
CREATED:20230415T020813Z
LAST-MODIFIED:20230415T021421Z
UID:620-1682157600-1682179200@sjgsh.net
SUMMARY:Demonstration - Daffodil Day in Moorestown 2023
DESCRIPTION:Spring arrives with horse-drawn carriage rides\, live entertainment by local musicians\, art and craft demonstrations\, merchant and restaurant seasonal specials\, family activities\, and daffodils lining Main Street.
URL:https://sjgsh.net/event/demonstration-daffodil-day-in-moorestown-2023/
LOCATION:Main Street\, Mooretown\, NJ\, Main Street (between Chester Avenue and Church St.\, Moorestown\, NJ\, United States
END:VEVENT
BEGIN:VEVENT
DTSTART;TZID=UTC:20230416T130000
DTEND;TZID=UTC:20230416T160000
DTSTAMP:20260424T050451
CREATED:20230415T021913Z
LAST-MODIFIED:20230415T022013Z
UID:623-1681650000-1681660800@sjgsh.net
SUMMARY:Spring 2023 FiberPalooza @ PGHW
DESCRIPTION:Fiberpalooza is the fiber sales of all fiber sales!\n\n\nJust in time for Spring cleaning\, PGHW is having an outdoor FiberPalooza sale on Sunday April 16 th from 1pm to 4pm. Members are invited to purchase VENDOR SPACES if they want to sell any kind of fiber-related items. Items can include spinning fibers/fleeces\, yarns\, fabrics\, tools\, books\, sewing patterns\, threads\, looms\, wheels and even hand-crafted fiber items. Please\, no yard sale stuff that is unrelated to the fiber arts.\n\nDetails here:\nDate: Sunday April 16th from 1 to 4 pm. Rain or shine.
URL:https://sjgsh.net/event/spring-2023-fiberpalooza-pghw/
LOCATION:NJ
END:VEVENT
BEGIN:VEVENT
DTSTART;TZID=UTC:20230401T110000
DTEND;TZID=UTC:20230401T140000
DTSTAMP:20260424T050451
CREATED:20230327T234156Z
LAST-MODIFIED:20230331T214242Z
UID:185-1680346800-1680357600@sjgsh.net
SUMMARY:Rachel Snack of Weaver House
DESCRIPTION:Rachel Snack of Weaver House will share her journey in building a small textiles\, and weaving business\, etc.
URL:https://sjgsh.net/event/rachel-snack-of-weaver-house/
LOCATION:First Presbyterian Church\, 101 Bridgeboro Rd\, Moorestown\, NJ\, 08057\, United States
CATEGORIES:South Jersey Guild Events
END:VEVENT
END:VCALENDAR