BEGIN:VCALENDAR
VERSION:2.0
PRODID:-//South Jersey Guild of Spinners &amp; Handweavers - ECPv6.15.20//NONSGML v1.0//EN
CALSCALE:GREGORIAN
METHOD:PUBLISH
X-WR-CALNAME:South Jersey Guild of Spinners &amp; Handweavers
X-ORIGINAL-URL:https://sjgsh.net
X-WR-CALDESC:Events for South Jersey Guild of Spinners &amp; Handweavers
REFRESH-INTERVAL;VALUE=DURATION:PT1H
X-Robots-Tag:noindex
X-PUBLISHED-TTL:PT1H
BEGIN:VTIMEZONE
TZID:UTC
BEGIN:STANDARD
TZOFFSETFROM:+0000
TZOFFSETTO:+0000
TZNAME:UTC
DTSTART:20240101T000000
END:STANDARD
END:VTIMEZONE
BEGIN:VEVENT
DTSTART;TZID=UTC:20260412T130000
DTEND;TZID=UTC:20260412T160000
DTSTAMP:20260423T173823
CREATED:20251015T211136Z
LAST-MODIFIED:20251015T211227Z
UID:1486-1775998800-1776009600@sjgsh.net
SUMMARY:Multi-Shaft Weavers Study Group
DESCRIPTION:Curious about exploring the endless possibilities of multi-shaft weaving? Join our welcoming group of weavers as we share techniques\, projects\, and inspiration for harnessing the full creative potential of multi-shaft looms. Whether you’re brand new to multi-shaft weaving or an experienced weaver eager to deepen your skills\, you’ll find a supportive space to learn\, experiment\, and grow. Bring your questions\, ideas\, and enthusiasm — together we’ll unlock new patterns\, textures\, and designs while enjoying the camaraderie of fellow fiber lovers!
URL:https://sjgsh.net/event/multi-shaft-weavers-study-group-7/
LOCATION:Smiling Dog Farm\, 108 Fostertown Rd\, Lumberton\, NJ\, 08048\, United States
CATEGORIES:South Jersey Guild Events
ATTACH;FMTTYPE=image/png:https://sjgsh.net/wp-content/uploads/2024/05/Multi-Shaft-Weavers-Group-e1726079823712.png
END:VEVENT
BEGIN:VEVENT
DTSTART;TZID=UTC:20260404T100000
DTEND;TZID=UTC:20260404T103000
DTSTAMP:20260423T173823
CREATED:20250617T170632Z
LAST-MODIFIED:20250617T170632Z
UID:1416-1775296800-1775298600@sjgsh.net
SUMMARY:SJGSH General Meeting
DESCRIPTION:Guild Business will be discussed. Bring you fiber projects to work on during the meeting! We would love to see them. \nPROGRAM: TBA
URL:https://sjgsh.net/event/sjgsh-general-meeting-12/
LOCATION:First Presbyterian Church\, 101 Bridgeboro Rd\, Moorestown\, NJ\, 08057\, United States
CATEGORIES:South Jersey Guild Events
ATTACH;FMTTYPE=image/jpeg:https://sjgsh.net/wp-content/uploads/2023/03/GENERAL-GUILD-MEETING-e1726079976139.jpg
END:VEVENT
BEGIN:VEVENT
DTSTART;TZID=UTC:20260322T130000
DTEND;TZID=UTC:20260322T160000
DTSTAMP:20260423T173823
CREATED:20250523T215004Z
LAST-MODIFIED:20260219T172525Z
UID:1387-1774184400-1774195200@sjgsh.net
SUMMARY:Rigid Heddle Study Group - SJGSH Event
DESCRIPTION:Bring your Rigid Heddle and a snack to share! Details will be sent to the members of this group closer to the meeting date.
URL:https://sjgsh.net/event/rigid-heddle-study-group-sjgsh-event-12/
LOCATION:NJ
CATEGORIES:South Jersey Guild Events
ATTACH;FMTTYPE=image/jpeg:https://sjgsh.net/wp-content/uploads/2023/03/RIGID-HEDDLE-WEAVERS-STUDY-GROUP-e1726071821920.jpg
END:VEVENT
BEGIN:VEVENT
DTSTART;TZID=UTC:20260307T100000
DTEND;TZID=UTC:20260307T103000
DTSTAMP:20260423T173823
CREATED:20250617T170552Z
LAST-MODIFIED:20250617T170552Z
UID:1414-1772877600-1772879400@sjgsh.net
SUMMARY:SJGSH General Meeting
DESCRIPTION:Guild Business will be discussed. Bring you fiber projects to work on during the meeting! We would love to see them. \nPROGRAM: TBA
URL:https://sjgsh.net/event/sjgsh-general-meeting-11/
LOCATION:First Presbyterian Church\, 101 Bridgeboro Rd\, Moorestown\, NJ\, 08057\, United States
CATEGORIES:South Jersey Guild Events
ATTACH;FMTTYPE=image/jpeg:https://sjgsh.net/wp-content/uploads/2023/03/GENERAL-GUILD-MEETING-e1726079976139.jpg
END:VEVENT
BEGIN:VEVENT
DTSTART;TZID=UTC:20260207T100000
DTEND;TZID=UTC:20260207T103000
DTSTAMP:20260423T173823
CREATED:20250617T170406Z
LAST-MODIFIED:20250617T170406Z
UID:1412-1770458400-1770460200@sjgsh.net
SUMMARY:SJGSH General Meeting
DESCRIPTION:Guild Business will be discussed. Bring you fiber projects to work on during the meeting! We would love to see them. \nPROGRAM: TBA
URL:https://sjgsh.net/event/sjgsh-general-meeting-10/
LOCATION:First Presbyterian Church\, 101 Bridgeboro Rd\, Moorestown\, NJ\, 08057\, United States
CATEGORIES:South Jersey Guild Events
ATTACH;FMTTYPE=image/jpeg:https://sjgsh.net/wp-content/uploads/2023/03/GENERAL-GUILD-MEETING-e1726079976139.jpg
END:VEVENT
BEGIN:VEVENT
DTSTART;TZID=UTC:20260125T130000
DTEND;TZID=UTC:20260125T160000
DTSTAMP:20260423T173823
CREATED:20251015T210932Z
LAST-MODIFIED:20251015T210932Z
UID:1482-1769346000-1769356800@sjgsh.net
SUMMARY:Multi-Shaft Weavers Study Group
DESCRIPTION:Curious about exploring the endless possibilities of multi-shaft weaving? Join our welcoming group of weavers as we share techniques\, projects\, and inspiration for harnessing the full creative potential of multi-shaft looms. Whether you’re brand new to multi-shaft weaving or an experienced weaver eager to deepen your skills\, you’ll find a supportive space to learn\, experiment\, and grow. Bring your questions\, ideas\, and enthusiasm — together we’ll unlock new patterns\, textures\, and designs while enjoying the camaraderie of fellow fiber lovers!
URL:https://sjgsh.net/event/multi-shaft-weavers-study-group-6/
LOCATION:Smiling Dog Farm\, 108 Fostertown Rd\, Lumberton\, NJ\, 08048\, United States
CATEGORIES:South Jersey Guild Events
ATTACH;FMTTYPE=image/png:https://sjgsh.net/wp-content/uploads/2024/05/Multi-Shaft-Weavers-Group-e1726079823712.png
END:VEVENT
BEGIN:VEVENT
DTSTART;TZID=UTC:20260110T100000
DTEND;TZID=UTC:20260110T103000
DTSTAMP:20260423T173823
CREATED:20250617T170320Z
LAST-MODIFIED:20250617T170320Z
UID:1410-1768039200-1768041000@sjgsh.net
SUMMARY:SJGSH General Meeting
DESCRIPTION:Guild Business will be discussed. Bring you fiber projects to work on during the meeting! We would love to see them. \nPROGRAM: TBA
URL:https://sjgsh.net/event/sjgsh-general-meeting-9/
LOCATION:First Presbyterian Church\, 101 Bridgeboro Rd\, Moorestown\, NJ\, 08057\, United States
CATEGORIES:South Jersey Guild Events
ATTACH;FMTTYPE=image/jpeg:https://sjgsh.net/wp-content/uploads/2023/03/GENERAL-GUILD-MEETING-e1726079976139.jpg
END:VEVENT
BEGIN:VEVENT
DTSTART;TZID=UTC:20251206T100000
DTEND;TZID=UTC:20251206T103000
DTSTAMP:20260423T173823
CREATED:20250617T164744Z
LAST-MODIFIED:20250617T164744Z
UID:1407-1765015200-1765017000@sjgsh.net
SUMMARY:SJGSH General Meeting
DESCRIPTION:Guild Business will be discussed. Bring you fiber projects to work on during the meeting! We would love to see them. \nPROGRAM: TBA
URL:https://sjgsh.net/event/sjgsh-general-meeting-8/
LOCATION:First Presbyterian Church\, 101 Bridgeboro Rd\, Moorestown\, NJ\, 08057\, United States
CATEGORIES:South Jersey Guild Events
ATTACH;FMTTYPE=image/jpeg:https://sjgsh.net/wp-content/uploads/2023/03/GENERAL-GUILD-MEETING-e1726079976139.jpg
END:VEVENT
BEGIN:VEVENT
DTSTART;TZID=UTC:20251116T130000
DTEND;TZID=UTC:20251116T160000
DTSTAMP:20260423T173823
CREATED:20250523T214645Z
LAST-MODIFIED:20250524T135634Z
UID:1385-1763298000-1763308800@sjgsh.net
SUMMARY:Rigid Heddle Study Group - SJGSH Event
DESCRIPTION:Bring your Rigid Heddle and a snack to share! Details will be sent to the members of this group closer to the meeting date.
URL:https://sjgsh.net/event/rigid-heddle-study-group-sjgsh-event-11/
LOCATION:NJ
CATEGORIES:South Jersey Guild Events
ATTACH;FMTTYPE=image/jpeg:https://sjgsh.net/wp-content/uploads/2023/03/RIGID-HEDDLE-WEAVERS-STUDY-GROUP-e1726071821920.jpg
END:VEVENT
BEGIN:VEVENT
DTSTART;TZID=UTC:20251101T100000
DTEND;TZID=UTC:20251101T103000
DTSTAMP:20260423T173823
CREATED:20250617T164709Z
LAST-MODIFIED:20250617T164709Z
UID:1405-1761991200-1761993000@sjgsh.net
SUMMARY:SJGSH General Meeting
DESCRIPTION:Guild Business will be discussed. Bring you fiber projects to work on during the meeting! We would love to see them. \nPROGRAM: TBA
URL:https://sjgsh.net/event/sjgsh-general-meeting-7/
LOCATION:First Presbyterian Church\, 101 Bridgeboro Rd\, Moorestown\, NJ\, 08057\, United States
CATEGORIES:South Jersey Guild Events
ATTACH;FMTTYPE=image/jpeg:https://sjgsh.net/wp-content/uploads/2023/03/GENERAL-GUILD-MEETING-e1726079976139.jpg
END:VEVENT
BEGIN:VEVENT
DTSTART;TZID=UTC:20251012T130000
DTEND;TZID=UTC:20251012T160000
DTSTAMP:20260423T173823
CREATED:20251015T205849Z
LAST-MODIFIED:20251015T211022Z
UID:1478-1760274000-1760284800@sjgsh.net
SUMMARY:Multi-Shaft Weavers Study Group
DESCRIPTION:Curious about exploring the endless possibilities of multi-shaft weaving? Join our welcoming group of weavers as we share techniques\, projects\, and inspiration for harnessing the full creative potential of multi-shaft looms. Whether you’re brand new to multi-shaft weaving or an experienced weaver eager to deepen your skills\, you’ll find a supportive space to learn\, experiment\, and grow. Bring your questions\, ideas\, and enthusiasm — together we’ll unlock new patterns\, textures\, and designs while enjoying the camaraderie of fellow fiber lovers!
URL:https://sjgsh.net/event/multi-shaft-weavers-study-group-5/
LOCATION:Smiling Dog Farm\, 108 Fostertown Rd\, Lumberton\, NJ\, 08048\, United States
CATEGORIES:South Jersey Guild Events
ATTACH;FMTTYPE=image/png:https://sjgsh.net/wp-content/uploads/2024/05/Multi-Shaft-Weavers-Group-e1726079823712.png
END:VEVENT
BEGIN:VEVENT
DTSTART;TZID=UTC:20251004T100000
DTEND;TZID=UTC:20251005T170000
DTSTAMP:20260423T173823
CREATED:20240911T201445Z
LAST-MODIFIED:20250923T154206Z
UID:1261-1759572000-1759683600@sjgsh.net
SUMMARY:Windy Farm Alpacas - FALL OPEN FARM WEEKEND
DESCRIPTION:Sat & Sun\nOct 4th & 5th \nOpen to the Public\n10:AM to 5:PM\nRain or Shine! \nVisit the Alpacas!\nTake a Pasture Tour!\nWatch a Hand Spinner!\nShop Alpaca Products!
URL:https://sjgsh.net/event/windy-farm-alpacas-fall-open-farm-weekend-2/
LOCATION:Windy Farm Alpacas\, 61 White Pine Road\, Chesterfield\, NJ\, 08515\, United States
END:VEVENT
BEGIN:VEVENT
DTSTART;TZID=UTC:20251004T100000
DTEND;TZID=UTC:20251004T103000
DTSTAMP:20260423T173823
CREATED:20250617T164618Z
LAST-MODIFIED:20250617T164618Z
UID:1403-1759572000-1759573800@sjgsh.net
SUMMARY:SJGSH General Meeting
DESCRIPTION:Guild Business will be discussed. Bring you fiber projects to work on during the meeting! We would love to see them. \nPROGRAM: TBA
URL:https://sjgsh.net/event/sjgsh-general-meeting-6/
LOCATION:First Presbyterian Church\, 101 Bridgeboro Rd\, Moorestown\, NJ\, 08057\, United States
CATEGORIES:South Jersey Guild Events
ATTACH;FMTTYPE=image/jpeg:https://sjgsh.net/wp-content/uploads/2023/03/GENERAL-GUILD-MEETING-e1726079976139.jpg
END:VEVENT
BEGIN:VEVENT
DTSTART;TZID=UTC:20250927T100000
DTEND;TZID=UTC:20250928T170000
DTSTAMP:20260423T173823
CREATED:20240911T201326Z
LAST-MODIFIED:20250923T154052Z
UID:1259-1758967200-1759078800@sjgsh.net
SUMMARY:Windy Farm Alpacas - FALL OPEN FARM WEEKEND
DESCRIPTION:Sat & Sun\nSept 27th & 28th\nand\nOct 4th & 5th \nOpen to the Public\n10:AM to 5:PM\nRain or Shine! \nVisit the Alpacas!\nTake a Pasture Tour!\nWatch a Hand Spinner!\nShop Alpaca Products!
URL:https://sjgsh.net/event/windy-farm-alpacas-fall-open-farm-weekend/
LOCATION:Windy Farm Alpacas\, 61 White Pine Road\, Chesterfield\, NJ\, 08515\, United States
END:VEVENT
BEGIN:VEVENT
DTSTART;TZID=UTC:20250921T130000
DTEND;TZID=UTC:20250921T160000
DTSTAMP:20260423T173823
CREATED:20250523T214444Z
LAST-MODIFIED:20250524T135704Z
UID:1383-1758459600-1758470400@sjgsh.net
SUMMARY:Rigid Heddle Study Group - SJGSH Event
DESCRIPTION:Bring your Rigid Heddle and a snack to share! Details will be sent to the members of this group closer to the meeting date.
URL:https://sjgsh.net/event/rigid-heddle-study-group-sjgsh-event-10/
LOCATION:NJ
CATEGORIES:South Jersey Guild Events
ATTACH;FMTTYPE=image/jpeg:https://sjgsh.net/wp-content/uploads/2023/03/RIGID-HEDDLE-WEAVERS-STUDY-GROUP-e1726071821920.jpg
END:VEVENT
BEGIN:VEVENT
DTSTART;TZID=UTC:20250906T100000
DTEND;TZID=UTC:20250906T103000
DTSTAMP:20260423T173823
CREATED:20250617T164525Z
LAST-MODIFIED:20250617T164525Z
UID:1401-1757152800-1757154600@sjgsh.net
SUMMARY:SJGSH General Meeting
DESCRIPTION:Guild Business will be discussed. Bring you fiber projects to work on during the meeting! We would love to see them. \nPROGRAM: TBA
URL:https://sjgsh.net/event/sjgsh-general-meeting-4/
LOCATION:First Presbyterian Church\, 101 Bridgeboro Rd\, Moorestown\, NJ\, 08057\, United States
CATEGORIES:South Jersey Guild Events
ATTACH;FMTTYPE=image/jpeg:https://sjgsh.net/wp-content/uploads/2023/03/GENERAL-GUILD-MEETING-e1726079976139.jpg
END:VEVENT
BEGIN:VEVENT
DTSTART;VALUE=DATE:20250621
DTEND;VALUE=DATE:20250622
DTSTAMP:20260423T173823
CREATED:20241003T231048Z
LAST-MODIFIED:20241003T231048Z
UID:1303-1750464000-1750550399@sjgsh.net
SUMMARY:Braid Study Group
DESCRIPTION:Meeting’s location is TBD
URL:https://sjgsh.net/event/braid-study-group-3/
LOCATION:NJ
CATEGORIES:South Jersey Guild Events
ATTACH;FMTTYPE=image/jpeg:https://sjgsh.net/wp-content/uploads/2024/10/Braid-study-group.jpg
END:VEVENT
BEGIN:VEVENT
DTSTART;TZID=UTC:20250608T130000
DTEND;TZID=UTC:20250608T160000
DTSTAMP:20260423T173823
CREATED:20240928T191505Z
LAST-MODIFIED:20240928T191505Z
UID:1289-1749387600-1749398400@sjgsh.net
SUMMARY:Multi-Shaft Weavers Study Group
DESCRIPTION:Our first project will focus on learning about color and how colors work in different weaving structures.  We are suggesting that the group use a pattern from Lunatic Fringe for a color gamp. \nThis project will lead nicely into the projects we have planned for March and June\, which are to weave lace\, including lace color and weaves\, and how to weave overshot.
URL:https://sjgsh.net/event/multi-shaft-weavers-study-group-4/
LOCATION:Smiling Dog Farm\, 108 Fostertown Rd\, Lumberton\, NJ\, 08048\, United States
CATEGORIES:South Jersey Guild Events
ATTACH;FMTTYPE=image/png:https://sjgsh.net/wp-content/uploads/2024/05/Multi-Shaft-Weavers-Group-e1726079823712.png
END:VEVENT
BEGIN:VEVENT
DTSTART;TZID=UTC:20250607T130000
DTEND;TZID=UTC:20250607T163000
DTSTAMP:20260423T173823
CREATED:20240905T000723Z
LAST-MODIFIED:20240905T201737Z
UID:1234-1749301200-1749313800@sjgsh.net
SUMMARY:SJGSH Guild - Spinners Group Meeting
DESCRIPTION:Our Spinners’ Study Group Meets four times a year.\nTime and location information will be provided to the members of the group prior each meeting. \n 
URL:https://sjgsh.net/event/sjgsh-guild-spinners-group-meeting-6/
LOCATION:NJ
CATEGORIES:South Jersey Guild Events
ATTACH;FMTTYPE=image/jpeg:https://sjgsh.net/wp-content/uploads/2023/03/SPINNERS-STUDY-GROUP-e1726079947719.jpg
END:VEVENT
BEGIN:VEVENT
DTSTART;TZID=UTC:20250607T100000
DTEND;TZID=UTC:20250607T103000
DTSTAMP:20260423T173823
CREATED:20240728T164128Z
LAST-MODIFIED:20240728T164128Z
UID:1208-1749290400-1749292200@sjgsh.net
SUMMARY:SJGSH General Meeting
DESCRIPTION:Guild Business will be discussed. Bring you fiber projects to work on during the meeting! We would love to see them. \nPROGRAM: TBA
URL:https://sjgsh.net/event/sjgsh-6-25/
LOCATION:First Presbyterian Church\, 101 Bridgeboro Rd\, Moorestown\, NJ\, 08057\, United States
CATEGORIES:South Jersey Guild Events
ATTACH;FMTTYPE=image/jpeg:https://sjgsh.net/wp-content/uploads/2023/03/GENERAL-GUILD-MEETING-e1726079976139.jpg
END:VEVENT
BEGIN:VEVENT
DTSTART;TZID=UTC:20250518T130000
DTEND;TZID=UTC:20250518T160000
DTSTAMP:20260423T173823
CREATED:20240523T205707Z
LAST-MODIFIED:20240523T205707Z
UID:1144-1747573200-1747584000@sjgsh.net
SUMMARY:Rigid Heddle Study Group - SJGSH Event
DESCRIPTION:Bring your Rigid Heddle and a snack to share! It will be held at Dianne’s home. Details will be sent to the members of this group closer to the meeting date.
URL:https://sjgsh.net/event/rigid-heddle-study-group-sjgsh-event-8/
LOCATION:NJ
CATEGORIES:South Jersey Guild Events
ATTACH;FMTTYPE=image/jpeg:https://sjgsh.net/wp-content/uploads/2023/03/RIGID-HEDDLE-WEAVERS-STUDY-GROUP-e1726071821920.jpg
END:VEVENT
BEGIN:VEVENT
DTSTART;TZID=UTC:20250510T100000
DTEND;TZID=UTC:20250510T103000
DTSTAMP:20260423T173823
CREATED:20240728T164020Z
LAST-MODIFIED:20240728T164020Z
UID:1206-1746871200-1746873000@sjgsh.net
SUMMARY:SJGSH General Meeting
DESCRIPTION:Guild Business will be discussed. Bring you fiber projects to work on during the meeting! We would love to see them. \nPROGRAM: TBA
URL:https://sjgsh.net/event/sjgsh-5-25/
LOCATION:First Presbyterian Church\, 101 Bridgeboro Rd\, Moorestown\, NJ\, 08057\, United States
CATEGORIES:South Jersey Guild Events
ATTACH;FMTTYPE=image/jpeg:https://sjgsh.net/wp-content/uploads/2023/03/GENERAL-GUILD-MEETING-e1726079976139.jpg
END:VEVENT
BEGIN:VEVENT
DTSTART;TZID=UTC:20250405T100000
DTEND;TZID=UTC:20250405T103000
DTSTAMP:20260423T173823
CREATED:20240728T163926Z
LAST-MODIFIED:20240728T163926Z
UID:1204-1743847200-1743849000@sjgsh.net
SUMMARY:SJGSH General Meeting
DESCRIPTION:Guild Business will be discussed. Bring you fiber projects to work on during the meeting! We would love to see them. \nPROGRAM: TBA
URL:https://sjgsh.net/event/sjgsh-4-25/
LOCATION:First Presbyterian Church\, 101 Bridgeboro Rd\, Moorestown\, NJ\, 08057\, United States
CATEGORIES:South Jersey Guild Events
ATTACH;FMTTYPE=image/jpeg:https://sjgsh.net/wp-content/uploads/2023/03/GENERAL-GUILD-MEETING-e1726079976139.jpg
END:VEVENT
BEGIN:VEVENT
DTSTART;TZID=UTC:20250316T130000
DTEND;TZID=UTC:20250316T160000
DTSTAMP:20260423T173823
CREATED:20240928T191402Z
LAST-MODIFIED:20251015T210755Z
UID:1287-1742130000-1742140800@sjgsh.net
SUMMARY:Multi-Shaft Weavers Study Group
DESCRIPTION:Curious about exploring the endless possibilities of multi-shaft weaving? Join our welcoming group of weavers as we share techniques\, projects\, and inspiration for harnessing the full creative potential of multi-shaft looms. Whether you’re brand new to multi-shaft weaving or an experienced weaver eager to deepen your skills\, you’ll find a supportive space to learn\, experiment\, and grow. Bring your questions\, ideas\, and enthusiasm — together we’ll unlock new patterns\, textures\, and designs while enjoying the camaraderie of fellow fiber lovers!
URL:https://sjgsh.net/event/multi-shaft-weavers-study-group-3/
LOCATION:Smiling Dog Farm\, 108 Fostertown Rd\, Lumberton\, NJ\, 08048\, United States
CATEGORIES:South Jersey Guild Events
ATTACH;FMTTYPE=image/png:https://sjgsh.net/wp-content/uploads/2024/05/Multi-Shaft-Weavers-Group-e1726079823712.png
END:VEVENT
BEGIN:VEVENT
DTSTART;VALUE=DATE:20250308
DTEND;VALUE=DATE:20250309
DTSTAMP:20260423T173823
CREATED:20241003T230857Z
LAST-MODIFIED:20241003T230931Z
UID:1300-1741392000-1741478399@sjgsh.net
SUMMARY:Braid Study Group
DESCRIPTION:We are meeting at Alice’s house and Barb will lead us in making beaded fill the gap.
URL:https://sjgsh.net/event/braid-study-group-2/
LOCATION:NJ
CATEGORIES:South Jersey Guild Events
ATTACH;FMTTYPE=image/jpeg:https://sjgsh.net/wp-content/uploads/2024/10/Braid-study-group.jpg
END:VEVENT
BEGIN:VEVENT
DTSTART;TZID=UTC:20250301T130000
DTEND;TZID=UTC:20250301T163000
DTSTAMP:20260423T173823
CREATED:20240905T000630Z
LAST-MODIFIED:20240906T014248Z
UID:1232-1740834000-1740846600@sjgsh.net
SUMMARY:SJGSH Guild - Spinners Group Meeting
DESCRIPTION:Our Spinners’ Study Group Meets four times a year.\nTime and location information will be provided to the members of the group prior each meeting. \n 
URL:https://sjgsh.net/event/sjgsh-guild-spinners-group-meeting-5/
LOCATION:NJ
CATEGORIES:South Jersey Guild Events
ATTACH;FMTTYPE=image/jpeg:https://sjgsh.net/wp-content/uploads/2023/03/SPINNERS-STUDY-GROUP-e1726079947719.jpg
END:VEVENT
BEGIN:VEVENT
DTSTART;TZID=UTC:20250301T100000
DTEND;TZID=UTC:20250301T103000
DTSTAMP:20260423T173823
CREATED:20240728T163823Z
LAST-MODIFIED:20240728T163823Z
UID:1202-1740823200-1740825000@sjgsh.net
SUMMARY:SJGSH General Meeting
DESCRIPTION:Guild Business will be discussed. Bring you fiber projects to work on during the meeting! We would love to see them. \nPROGRAM: TBA
URL:https://sjgsh.net/event/sjgsh-3-25/
LOCATION:First Presbyterian Church\, 101 Bridgeboro Rd\, Moorestown\, NJ\, 08057\, United States
CATEGORIES:South Jersey Guild Events
ATTACH;FMTTYPE=image/jpeg:https://sjgsh.net/wp-content/uploads/2023/03/GENERAL-GUILD-MEETING-e1726079976139.jpg
END:VEVENT
BEGIN:VEVENT
DTSTART;TZID=UTC:20250223T130000
DTEND;TZID=UTC:20250223T160000
DTSTAMP:20260423T173823
CREATED:20240828T210505Z
LAST-MODIFIED:20240828T210505Z
UID:1214-1740315600-1740326400@sjgsh.net
SUMMARY:Rigid Heddle Study Group - SJGSH Event
DESCRIPTION:Bring your Rigid Heddle and a snack to share! It will be held at Dianne’s home. Details will be sent to the members of this group closer to the meeting date.
URL:https://sjgsh.net/event/rigid-heddle-study-group-sjgsh-event-9/
LOCATION:NJ
CATEGORIES:South Jersey Guild Events
ATTACH;FMTTYPE=image/jpeg:https://sjgsh.net/wp-content/uploads/2023/03/RIGID-HEDDLE-WEAVERS-STUDY-GROUP-e1726071821920.jpg
END:VEVENT
BEGIN:VEVENT
DTSTART;TZID=UTC:20250222T100000
DTEND;TZID=UTC:20250224T170000
DTSTAMP:20260423T173823
CREATED:20250211T171633Z
LAST-MODIFIED:20250211T171633Z
UID:1346-1740218400-1740416400@sjgsh.net
SUMMARY:Windy Farm Alpacas - Mid-Winter YARN & FIBER Sale
DESCRIPTION:Rain\, Snow\, Ice or Shine! We will be OPEN! \nMid-Winter YARN & FIBER Sale \nOPEN FARM EVENT – 20% OFF YARN\, FLEECE and ROVING! \nFeb 22nd\, 23rd & 24th 2025\nOpen to the Public – 10:AM to 5:PM \nVisit our New INDOOR Studio/Store!\nStunning New Alpaca RUGS! Many Alpaca Products Available. \nWarm Up by the OUTDOOR Fire! \nVisit the Alpacas! If Wet Weather – Alpacas will be in the Barn!
URL:https://sjgsh.net/event/windy-farm-alpacas-mid-winter-yarn-fiber-sale-2/
LOCATION:Windy Farm Alpacas\, 61 White Pine Road\, Chesterfield\, NJ\, 08515\, United States
END:VEVENT
BEGIN:VEVENT
DTSTART;TZID=UTC:20250215T100000
DTEND;TZID=UTC:20250216T170000
DTSTAMP:20260423T173823
CREATED:20250211T171531Z
LAST-MODIFIED:20250211T171531Z
UID:1343-1739613600-1739725200@sjgsh.net
SUMMARY:Windy Farm Alpacas - Mid-Winter YARN & FIBER Sale
DESCRIPTION:Rain\, Snow\, Ice or Shine! We will be OPEN! \nMid-Winter YARN & FIBER Sale \nOPEN FARM EVENT – 20% OFF YARN\, FLEECE and ROVING! \nFeb 15th &16th 2025 & Feb 22nd\, 23rd & 24th 2025\nOpen to the Public – 10:AM to 5:PM \nVisit our New INDOOR Studio/Store!\nStunning New Alpaca RUGS! Many Alpaca Products Available. \nWarm Up by the OUTDOOR Fire! \nVisit the Alpacas! If Wet Weather – Alpacas will be in the Barn!
URL:https://sjgsh.net/event/windy-farm-alpacas-mid-winter-yarn-fiber-sale/
LOCATION:Windy Farm Alpacas\, 61 White Pine Road\, Chesterfield\, NJ\, 08515\, United States
END:VEVENT
END:VCALENDAR